BEGIN:VCALENDAR
VERSION:2.0
PRODID:-//Ale House Grand Junction - ECPv6.15.20//NONSGML v1.0//EN
CALSCALE:GREGORIAN
METHOD:PUBLISH
X-WR-CALNAME:Ale House Grand Junction
X-ORIGINAL-URL:https://alehousegj.com
X-WR-CALDESC:Events for Ale House Grand Junction
REFRESH-INTERVAL;VALUE=DURATION:PT1H
X-Robots-Tag:noindex
X-PUBLISHED-TTL:PT1H
BEGIN:VTIMEZONE
TZID:America/Denver
BEGIN:DAYLIGHT
TZOFFSETFROM:-0700
TZOFFSETTO:-0600
TZNAME:MDT
DTSTART:20270314T090000
END:DAYLIGHT
BEGIN:STANDARD
TZOFFSETFROM:-0600
TZOFFSETTO:-0700
TZNAME:MST
DTSTART:20271107T080000
END:STANDARD
BEGIN:DAYLIGHT
TZOFFSETFROM:-0700
TZOFFSETTO:-0600
TZNAME:MDT
DTSTART:20280312T090000
END:DAYLIGHT
BEGIN:STANDARD
TZOFFSETFROM:-0600
TZOFFSETTO:-0700
TZNAME:MST
DTSTART:20281105T080000
END:STANDARD
BEGIN:DAYLIGHT
TZOFFSETFROM:-0700
TZOFFSETTO:-0600
TZNAME:MDT
DTSTART:20290311T090000
END:DAYLIGHT
BEGIN:STANDARD
TZOFFSETFROM:-0600
TZOFFSETTO:-0700
TZNAME:MST
DTSTART:20291104T080000
END:STANDARD
END:VTIMEZONE
BEGIN:VEVENT
DTSTART;VALUE=DATE:20280621
DTEND;VALUE=DATE:20280622
DTSTAMP:20260422T140832
CREATED:20240702T161054Z
LAST-MODIFIED:20240702T164405Z
UID:10000921-1845158400-1845244799@alehousegj.com
SUMMARY:WINE DOWN WEDNESDAY
DESCRIPTION:Enjoy half price bottles of select wines every Wednesday. \nTake out or dine in. Food purchase required. \nWINE LIST \n\nCK Mondavi Cabernet Sauvignon\nNatura Malbec\nOZV Red Zinfandel\nCK Mondavi Chardonnay\nAva Grace Pinot Grigio\nCupcake Moscato\nMatua Sauvignon Blanc\nGambino Sparkling Brut
URL:https://alehousegj.com/event/wine-down-wednesday/2028-06-21/
LOCATION:CO
ATTACH;FMTTYPE=image/jpeg:https://alehousegj.com/wp-content/uploads/2024/07/BW_GJ_2276_Wine_Down_Wednesday_Event_FA.jpg
END:VEVENT
BEGIN:VEVENT
DTSTART;VALUE=DATE:20280627
DTEND;VALUE=DATE:20280628
DTSTAMP:20260422T140832
CREATED:20241003T155817Z
LAST-MODIFIED:20241003T160110Z
UID:10001451-1845676800-1845763199@alehousegj.com
SUMMARY:KIDS EAT FREE EVERY TUESDAY
DESCRIPTION:Join us all day every Tuesday when kids 12 and under will receive a free kids meal with the purchase of an adult entree.
URL:https://alehousegj.com/event/kids-eat-free/2028-06-27/
LOCATION:Ale House Grand Junction\, 2531 N 12th St.\, Grand Junction\, CO\, 81501\, United States
ATTACH;FMTTYPE=image/jpeg:https://alehousegj.com/wp-content/uploads/2024/10/kids_eat_free_event.jpg
END:VEVENT
BEGIN:VEVENT
DTSTART;VALUE=DATE:20280628
DTEND;VALUE=DATE:20280629
DTSTAMP:20260422T140832
CREATED:20240702T161054Z
LAST-MODIFIED:20240702T164405Z
UID:10000922-1845763200-1845849599@alehousegj.com
SUMMARY:WINE DOWN WEDNESDAY
DESCRIPTION:Enjoy half price bottles of select wines every Wednesday. \nTake out or dine in. Food purchase required. \nWINE LIST \n\nCK Mondavi Cabernet Sauvignon\nNatura Malbec\nOZV Red Zinfandel\nCK Mondavi Chardonnay\nAva Grace Pinot Grigio\nCupcake Moscato\nMatua Sauvignon Blanc\nGambino Sparkling Brut
URL:https://alehousegj.com/event/wine-down-wednesday/2028-06-28/
LOCATION:CO
ATTACH;FMTTYPE=image/jpeg:https://alehousegj.com/wp-content/uploads/2024/07/BW_GJ_2276_Wine_Down_Wednesday_Event_FA.jpg
END:VEVENT
BEGIN:VEVENT
DTSTART;VALUE=DATE:20280704
DTEND;VALUE=DATE:20280705
DTSTAMP:20260422T140832
CREATED:20241003T155817Z
LAST-MODIFIED:20241003T160110Z
UID:10001452-1846281600-1846367999@alehousegj.com
SUMMARY:KIDS EAT FREE EVERY TUESDAY
DESCRIPTION:Join us all day every Tuesday when kids 12 and under will receive a free kids meal with the purchase of an adult entree.
URL:https://alehousegj.com/event/kids-eat-free/2028-07-04/
LOCATION:Ale House Grand Junction\, 2531 N 12th St.\, Grand Junction\, CO\, 81501\, United States
ATTACH;FMTTYPE=image/jpeg:https://alehousegj.com/wp-content/uploads/2024/10/kids_eat_free_event.jpg
END:VEVENT
BEGIN:VEVENT
DTSTART;VALUE=DATE:20280705
DTEND;VALUE=DATE:20280706
DTSTAMP:20260422T140832
CREATED:20240702T161054Z
LAST-MODIFIED:20240702T164405Z
UID:10000923-1846368000-1846454399@alehousegj.com
SUMMARY:WINE DOWN WEDNESDAY
DESCRIPTION:Enjoy half price bottles of select wines every Wednesday. \nTake out or dine in. Food purchase required. \nWINE LIST \n\nCK Mondavi Cabernet Sauvignon\nNatura Malbec\nOZV Red Zinfandel\nCK Mondavi Chardonnay\nAva Grace Pinot Grigio\nCupcake Moscato\nMatua Sauvignon Blanc\nGambino Sparkling Brut
URL:https://alehousegj.com/event/wine-down-wednesday/2028-07-05/
LOCATION:CO
ATTACH;FMTTYPE=image/jpeg:https://alehousegj.com/wp-content/uploads/2024/07/BW_GJ_2276_Wine_Down_Wednesday_Event_FA.jpg
END:VEVENT
BEGIN:VEVENT
DTSTART;VALUE=DATE:20280711
DTEND;VALUE=DATE:20280712
DTSTAMP:20260422T140832
CREATED:20241003T155817Z
LAST-MODIFIED:20241003T160110Z
UID:10001453-1846886400-1846972799@alehousegj.com
SUMMARY:KIDS EAT FREE EVERY TUESDAY
DESCRIPTION:Join us all day every Tuesday when kids 12 and under will receive a free kids meal with the purchase of an adult entree.
URL:https://alehousegj.com/event/kids-eat-free/2028-07-11/
LOCATION:Ale House Grand Junction\, 2531 N 12th St.\, Grand Junction\, CO\, 81501\, United States
ATTACH;FMTTYPE=image/jpeg:https://alehousegj.com/wp-content/uploads/2024/10/kids_eat_free_event.jpg
END:VEVENT
BEGIN:VEVENT
DTSTART;VALUE=DATE:20280712
DTEND;VALUE=DATE:20280713
DTSTAMP:20260422T140832
CREATED:20240702T161054Z
LAST-MODIFIED:20240702T164405Z
UID:10000924-1846972800-1847059199@alehousegj.com
SUMMARY:WINE DOWN WEDNESDAY
DESCRIPTION:Enjoy half price bottles of select wines every Wednesday. \nTake out or dine in. Food purchase required. \nWINE LIST \n\nCK Mondavi Cabernet Sauvignon\nNatura Malbec\nOZV Red Zinfandel\nCK Mondavi Chardonnay\nAva Grace Pinot Grigio\nCupcake Moscato\nMatua Sauvignon Blanc\nGambino Sparkling Brut
URL:https://alehousegj.com/event/wine-down-wednesday/2028-07-12/
LOCATION:CO
ATTACH;FMTTYPE=image/jpeg:https://alehousegj.com/wp-content/uploads/2024/07/BW_GJ_2276_Wine_Down_Wednesday_Event_FA.jpg
END:VEVENT
BEGIN:VEVENT
DTSTART;VALUE=DATE:20280718
DTEND;VALUE=DATE:20280719
DTSTAMP:20260422T140832
CREATED:20241003T155817Z
LAST-MODIFIED:20241003T160110Z
UID:10001454-1847491200-1847577599@alehousegj.com
SUMMARY:KIDS EAT FREE EVERY TUESDAY
DESCRIPTION:Join us all day every Tuesday when kids 12 and under will receive a free kids meal with the purchase of an adult entree.
URL:https://alehousegj.com/event/kids-eat-free/2028-07-18/
LOCATION:Ale House Grand Junction\, 2531 N 12th St.\, Grand Junction\, CO\, 81501\, United States
ATTACH;FMTTYPE=image/jpeg:https://alehousegj.com/wp-content/uploads/2024/10/kids_eat_free_event.jpg
END:VEVENT
BEGIN:VEVENT
DTSTART;VALUE=DATE:20280719
DTEND;VALUE=DATE:20280720
DTSTAMP:20260422T140832
CREATED:20240702T161054Z
LAST-MODIFIED:20240702T164405Z
UID:10000925-1847577600-1847663999@alehousegj.com
SUMMARY:WINE DOWN WEDNESDAY
DESCRIPTION:Enjoy half price bottles of select wines every Wednesday. \nTake out or dine in. Food purchase required. \nWINE LIST \n\nCK Mondavi Cabernet Sauvignon\nNatura Malbec\nOZV Red Zinfandel\nCK Mondavi Chardonnay\nAva Grace Pinot Grigio\nCupcake Moscato\nMatua Sauvignon Blanc\nGambino Sparkling Brut
URL:https://alehousegj.com/event/wine-down-wednesday/2028-07-19/
LOCATION:CO
ATTACH;FMTTYPE=image/jpeg:https://alehousegj.com/wp-content/uploads/2024/07/BW_GJ_2276_Wine_Down_Wednesday_Event_FA.jpg
END:VEVENT
BEGIN:VEVENT
DTSTART;VALUE=DATE:20280725
DTEND;VALUE=DATE:20280726
DTSTAMP:20260422T140832
CREATED:20241003T155817Z
LAST-MODIFIED:20241003T160110Z
UID:10001455-1848096000-1848182399@alehousegj.com
SUMMARY:KIDS EAT FREE EVERY TUESDAY
DESCRIPTION:Join us all day every Tuesday when kids 12 and under will receive a free kids meal with the purchase of an adult entree.
URL:https://alehousegj.com/event/kids-eat-free/2028-07-25/
LOCATION:Ale House Grand Junction\, 2531 N 12th St.\, Grand Junction\, CO\, 81501\, United States
ATTACH;FMTTYPE=image/jpeg:https://alehousegj.com/wp-content/uploads/2024/10/kids_eat_free_event.jpg
END:VEVENT
BEGIN:VEVENT
DTSTART;VALUE=DATE:20280726
DTEND;VALUE=DATE:20280727
DTSTAMP:20260422T140832
CREATED:20240702T161054Z
LAST-MODIFIED:20240702T164405Z
UID:10000926-1848182400-1848268799@alehousegj.com
SUMMARY:WINE DOWN WEDNESDAY
DESCRIPTION:Enjoy half price bottles of select wines every Wednesday. \nTake out or dine in. Food purchase required. \nWINE LIST \n\nCK Mondavi Cabernet Sauvignon\nNatura Malbec\nOZV Red Zinfandel\nCK Mondavi Chardonnay\nAva Grace Pinot Grigio\nCupcake Moscato\nMatua Sauvignon Blanc\nGambino Sparkling Brut
URL:https://alehousegj.com/event/wine-down-wednesday/2028-07-26/
LOCATION:CO
ATTACH;FMTTYPE=image/jpeg:https://alehousegj.com/wp-content/uploads/2024/07/BW_GJ_2276_Wine_Down_Wednesday_Event_FA.jpg
END:VEVENT
BEGIN:VEVENT
DTSTART;VALUE=DATE:20280801
DTEND;VALUE=DATE:20280802
DTSTAMP:20260422T140832
CREATED:20241003T155817Z
LAST-MODIFIED:20241003T160110Z
UID:10001456-1848700800-1848787199@alehousegj.com
SUMMARY:KIDS EAT FREE EVERY TUESDAY
DESCRIPTION:Join us all day every Tuesday when kids 12 and under will receive a free kids meal with the purchase of an adult entree.
URL:https://alehousegj.com/event/kids-eat-free/2028-08-01/
LOCATION:Ale House Grand Junction\, 2531 N 12th St.\, Grand Junction\, CO\, 81501\, United States
ATTACH;FMTTYPE=image/jpeg:https://alehousegj.com/wp-content/uploads/2024/10/kids_eat_free_event.jpg
END:VEVENT
BEGIN:VEVENT
DTSTART;VALUE=DATE:20280802
DTEND;VALUE=DATE:20280803
DTSTAMP:20260422T140832
CREATED:20240702T161054Z
LAST-MODIFIED:20240702T164405Z
UID:10000927-1848787200-1848873599@alehousegj.com
SUMMARY:WINE DOWN WEDNESDAY
DESCRIPTION:Enjoy half price bottles of select wines every Wednesday. \nTake out or dine in. Food purchase required. \nWINE LIST \n\nCK Mondavi Cabernet Sauvignon\nNatura Malbec\nOZV Red Zinfandel\nCK Mondavi Chardonnay\nAva Grace Pinot Grigio\nCupcake Moscato\nMatua Sauvignon Blanc\nGambino Sparkling Brut
URL:https://alehousegj.com/event/wine-down-wednesday/2028-08-02/
LOCATION:CO
ATTACH;FMTTYPE=image/jpeg:https://alehousegj.com/wp-content/uploads/2024/07/BW_GJ_2276_Wine_Down_Wednesday_Event_FA.jpg
END:VEVENT
BEGIN:VEVENT
DTSTART;VALUE=DATE:20280808
DTEND;VALUE=DATE:20280809
DTSTAMP:20260422T140832
CREATED:20241003T155817Z
LAST-MODIFIED:20241003T160110Z
UID:10001457-1849305600-1849391999@alehousegj.com
SUMMARY:KIDS EAT FREE EVERY TUESDAY
DESCRIPTION:Join us all day every Tuesday when kids 12 and under will receive a free kids meal with the purchase of an adult entree.
URL:https://alehousegj.com/event/kids-eat-free/2028-08-08/
LOCATION:Ale House Grand Junction\, 2531 N 12th St.\, Grand Junction\, CO\, 81501\, United States
ATTACH;FMTTYPE=image/jpeg:https://alehousegj.com/wp-content/uploads/2024/10/kids_eat_free_event.jpg
END:VEVENT
BEGIN:VEVENT
DTSTART;VALUE=DATE:20280809
DTEND;VALUE=DATE:20280810
DTSTAMP:20260422T140832
CREATED:20240702T161054Z
LAST-MODIFIED:20240702T164405Z
UID:10000928-1849392000-1849478399@alehousegj.com
SUMMARY:WINE DOWN WEDNESDAY
DESCRIPTION:Enjoy half price bottles of select wines every Wednesday. \nTake out or dine in. Food purchase required. \nWINE LIST \n\nCK Mondavi Cabernet Sauvignon\nNatura Malbec\nOZV Red Zinfandel\nCK Mondavi Chardonnay\nAva Grace Pinot Grigio\nCupcake Moscato\nMatua Sauvignon Blanc\nGambino Sparkling Brut
URL:https://alehousegj.com/event/wine-down-wednesday/2028-08-09/
LOCATION:CO
ATTACH;FMTTYPE=image/jpeg:https://alehousegj.com/wp-content/uploads/2024/07/BW_GJ_2276_Wine_Down_Wednesday_Event_FA.jpg
END:VEVENT
BEGIN:VEVENT
DTSTART;VALUE=DATE:20280815
DTEND;VALUE=DATE:20280816
DTSTAMP:20260422T140832
CREATED:20241003T155817Z
LAST-MODIFIED:20241003T160110Z
UID:10001458-1849910400-1849996799@alehousegj.com
SUMMARY:KIDS EAT FREE EVERY TUESDAY
DESCRIPTION:Join us all day every Tuesday when kids 12 and under will receive a free kids meal with the purchase of an adult entree.
URL:https://alehousegj.com/event/kids-eat-free/2028-08-15/
LOCATION:Ale House Grand Junction\, 2531 N 12th St.\, Grand Junction\, CO\, 81501\, United States
ATTACH;FMTTYPE=image/jpeg:https://alehousegj.com/wp-content/uploads/2024/10/kids_eat_free_event.jpg
END:VEVENT
BEGIN:VEVENT
DTSTART;VALUE=DATE:20280816
DTEND;VALUE=DATE:20280817
DTSTAMP:20260422T140832
CREATED:20240702T161054Z
LAST-MODIFIED:20240702T164405Z
UID:10000929-1849996800-1850083199@alehousegj.com
SUMMARY:WINE DOWN WEDNESDAY
DESCRIPTION:Enjoy half price bottles of select wines every Wednesday. \nTake out or dine in. Food purchase required. \nWINE LIST \n\nCK Mondavi Cabernet Sauvignon\nNatura Malbec\nOZV Red Zinfandel\nCK Mondavi Chardonnay\nAva Grace Pinot Grigio\nCupcake Moscato\nMatua Sauvignon Blanc\nGambino Sparkling Brut
URL:https://alehousegj.com/event/wine-down-wednesday/2028-08-16/
LOCATION:CO
ATTACH;FMTTYPE=image/jpeg:https://alehousegj.com/wp-content/uploads/2024/07/BW_GJ_2276_Wine_Down_Wednesday_Event_FA.jpg
END:VEVENT
BEGIN:VEVENT
DTSTART;VALUE=DATE:20280822
DTEND;VALUE=DATE:20280823
DTSTAMP:20260422T140832
CREATED:20241003T155817Z
LAST-MODIFIED:20241003T160110Z
UID:10001459-1850515200-1850601599@alehousegj.com
SUMMARY:KIDS EAT FREE EVERY TUESDAY
DESCRIPTION:Join us all day every Tuesday when kids 12 and under will receive a free kids meal with the purchase of an adult entree.
URL:https://alehousegj.com/event/kids-eat-free/2028-08-22/
LOCATION:Ale House Grand Junction\, 2531 N 12th St.\, Grand Junction\, CO\, 81501\, United States
ATTACH;FMTTYPE=image/jpeg:https://alehousegj.com/wp-content/uploads/2024/10/kids_eat_free_event.jpg
END:VEVENT
BEGIN:VEVENT
DTSTART;VALUE=DATE:20280823
DTEND;VALUE=DATE:20280824
DTSTAMP:20260422T140832
CREATED:20240702T161054Z
LAST-MODIFIED:20240702T164405Z
UID:10000930-1850601600-1850687999@alehousegj.com
SUMMARY:WINE DOWN WEDNESDAY
DESCRIPTION:Enjoy half price bottles of select wines every Wednesday. \nTake out or dine in. Food purchase required. \nWINE LIST \n\nCK Mondavi Cabernet Sauvignon\nNatura Malbec\nOZV Red Zinfandel\nCK Mondavi Chardonnay\nAva Grace Pinot Grigio\nCupcake Moscato\nMatua Sauvignon Blanc\nGambino Sparkling Brut
URL:https://alehousegj.com/event/wine-down-wednesday/2028-08-23/
LOCATION:CO
ATTACH;FMTTYPE=image/jpeg:https://alehousegj.com/wp-content/uploads/2024/07/BW_GJ_2276_Wine_Down_Wednesday_Event_FA.jpg
END:VEVENT
BEGIN:VEVENT
DTSTART;VALUE=DATE:20280829
DTEND;VALUE=DATE:20280830
DTSTAMP:20260422T140832
CREATED:20241003T155817Z
LAST-MODIFIED:20241003T160110Z
UID:10001460-1851120000-1851206399@alehousegj.com
SUMMARY:KIDS EAT FREE EVERY TUESDAY
DESCRIPTION:Join us all day every Tuesday when kids 12 and under will receive a free kids meal with the purchase of an adult entree.
URL:https://alehousegj.com/event/kids-eat-free/2028-08-29/
LOCATION:Ale House Grand Junction\, 2531 N 12th St.\, Grand Junction\, CO\, 81501\, United States
ATTACH;FMTTYPE=image/jpeg:https://alehousegj.com/wp-content/uploads/2024/10/kids_eat_free_event.jpg
END:VEVENT
BEGIN:VEVENT
DTSTART;VALUE=DATE:20280830
DTEND;VALUE=DATE:20280831
DTSTAMP:20260422T140832
CREATED:20240702T161054Z
LAST-MODIFIED:20240702T164405Z
UID:10000931-1851206400-1851292799@alehousegj.com
SUMMARY:WINE DOWN WEDNESDAY
DESCRIPTION:Enjoy half price bottles of select wines every Wednesday. \nTake out or dine in. Food purchase required. \nWINE LIST \n\nCK Mondavi Cabernet Sauvignon\nNatura Malbec\nOZV Red Zinfandel\nCK Mondavi Chardonnay\nAva Grace Pinot Grigio\nCupcake Moscato\nMatua Sauvignon Blanc\nGambino Sparkling Brut
URL:https://alehousegj.com/event/wine-down-wednesday/2028-08-30/
LOCATION:CO
ATTACH;FMTTYPE=image/jpeg:https://alehousegj.com/wp-content/uploads/2024/07/BW_GJ_2276_Wine_Down_Wednesday_Event_FA.jpg
END:VEVENT
BEGIN:VEVENT
DTSTART;VALUE=DATE:20280905
DTEND;VALUE=DATE:20280906
DTSTAMP:20260422T140832
CREATED:20241003T155817Z
LAST-MODIFIED:20241003T160110Z
UID:10001461-1851724800-1851811199@alehousegj.com
SUMMARY:KIDS EAT FREE EVERY TUESDAY
DESCRIPTION:Join us all day every Tuesday when kids 12 and under will receive a free kids meal with the purchase of an adult entree.
URL:https://alehousegj.com/event/kids-eat-free/2028-09-05/
LOCATION:Ale House Grand Junction\, 2531 N 12th St.\, Grand Junction\, CO\, 81501\, United States
ATTACH;FMTTYPE=image/jpeg:https://alehousegj.com/wp-content/uploads/2024/10/kids_eat_free_event.jpg
END:VEVENT
BEGIN:VEVENT
DTSTART;VALUE=DATE:20280906
DTEND;VALUE=DATE:20280907
DTSTAMP:20260422T140832
CREATED:20240702T161054Z
LAST-MODIFIED:20240702T164405Z
UID:10000932-1851811200-1851897599@alehousegj.com
SUMMARY:WINE DOWN WEDNESDAY
DESCRIPTION:Enjoy half price bottles of select wines every Wednesday. \nTake out or dine in. Food purchase required. \nWINE LIST \n\nCK Mondavi Cabernet Sauvignon\nNatura Malbec\nOZV Red Zinfandel\nCK Mondavi Chardonnay\nAva Grace Pinot Grigio\nCupcake Moscato\nMatua Sauvignon Blanc\nGambino Sparkling Brut
URL:https://alehousegj.com/event/wine-down-wednesday/2028-09-06/
LOCATION:CO
ATTACH;FMTTYPE=image/jpeg:https://alehousegj.com/wp-content/uploads/2024/07/BW_GJ_2276_Wine_Down_Wednesday_Event_FA.jpg
END:VEVENT
BEGIN:VEVENT
DTSTART;VALUE=DATE:20280912
DTEND;VALUE=DATE:20280913
DTSTAMP:20260422T140832
CREATED:20241003T155817Z
LAST-MODIFIED:20241003T160110Z
UID:10001462-1852329600-1852415999@alehousegj.com
SUMMARY:KIDS EAT FREE EVERY TUESDAY
DESCRIPTION:Join us all day every Tuesday when kids 12 and under will receive a free kids meal with the purchase of an adult entree.
URL:https://alehousegj.com/event/kids-eat-free/2028-09-12/
LOCATION:Ale House Grand Junction\, 2531 N 12th St.\, Grand Junction\, CO\, 81501\, United States
ATTACH;FMTTYPE=image/jpeg:https://alehousegj.com/wp-content/uploads/2024/10/kids_eat_free_event.jpg
END:VEVENT
BEGIN:VEVENT
DTSTART;VALUE=DATE:20280913
DTEND;VALUE=DATE:20280914
DTSTAMP:20260422T140832
CREATED:20240702T161054Z
LAST-MODIFIED:20240702T164405Z
UID:10000933-1852416000-1852502399@alehousegj.com
SUMMARY:WINE DOWN WEDNESDAY
DESCRIPTION:Enjoy half price bottles of select wines every Wednesday. \nTake out or dine in. Food purchase required. \nWINE LIST \n\nCK Mondavi Cabernet Sauvignon\nNatura Malbec\nOZV Red Zinfandel\nCK Mondavi Chardonnay\nAva Grace Pinot Grigio\nCupcake Moscato\nMatua Sauvignon Blanc\nGambino Sparkling Brut
URL:https://alehousegj.com/event/wine-down-wednesday/2028-09-13/
LOCATION:CO
ATTACH;FMTTYPE=image/jpeg:https://alehousegj.com/wp-content/uploads/2024/07/BW_GJ_2276_Wine_Down_Wednesday_Event_FA.jpg
END:VEVENT
BEGIN:VEVENT
DTSTART;VALUE=DATE:20280919
DTEND;VALUE=DATE:20280920
DTSTAMP:20260422T140832
CREATED:20241003T155817Z
LAST-MODIFIED:20241003T160110Z
UID:10001463-1852934400-1853020799@alehousegj.com
SUMMARY:KIDS EAT FREE EVERY TUESDAY
DESCRIPTION:Join us all day every Tuesday when kids 12 and under will receive a free kids meal with the purchase of an adult entree.
URL:https://alehousegj.com/event/kids-eat-free/2028-09-19/
LOCATION:Ale House Grand Junction\, 2531 N 12th St.\, Grand Junction\, CO\, 81501\, United States
ATTACH;FMTTYPE=image/jpeg:https://alehousegj.com/wp-content/uploads/2024/10/kids_eat_free_event.jpg
END:VEVENT
BEGIN:VEVENT
DTSTART;VALUE=DATE:20280920
DTEND;VALUE=DATE:20280921
DTSTAMP:20260422T140832
CREATED:20240702T161054Z
LAST-MODIFIED:20240702T164405Z
UID:10000934-1853020800-1853107199@alehousegj.com
SUMMARY:WINE DOWN WEDNESDAY
DESCRIPTION:Enjoy half price bottles of select wines every Wednesday. \nTake out or dine in. Food purchase required. \nWINE LIST \n\nCK Mondavi Cabernet Sauvignon\nNatura Malbec\nOZV Red Zinfandel\nCK Mondavi Chardonnay\nAva Grace Pinot Grigio\nCupcake Moscato\nMatua Sauvignon Blanc\nGambino Sparkling Brut
URL:https://alehousegj.com/event/wine-down-wednesday/2028-09-20/
LOCATION:CO
ATTACH;FMTTYPE=image/jpeg:https://alehousegj.com/wp-content/uploads/2024/07/BW_GJ_2276_Wine_Down_Wednesday_Event_FA.jpg
END:VEVENT
BEGIN:VEVENT
DTSTART;VALUE=DATE:20280926
DTEND;VALUE=DATE:20280927
DTSTAMP:20260422T140832
CREATED:20241003T155817Z
LAST-MODIFIED:20241003T160110Z
UID:10001464-1853539200-1853625599@alehousegj.com
SUMMARY:KIDS EAT FREE EVERY TUESDAY
DESCRIPTION:Join us all day every Tuesday when kids 12 and under will receive a free kids meal with the purchase of an adult entree.
URL:https://alehousegj.com/event/kids-eat-free/2028-09-26/
LOCATION:Ale House Grand Junction\, 2531 N 12th St.\, Grand Junction\, CO\, 81501\, United States
ATTACH;FMTTYPE=image/jpeg:https://alehousegj.com/wp-content/uploads/2024/10/kids_eat_free_event.jpg
END:VEVENT
BEGIN:VEVENT
DTSTART;VALUE=DATE:20280927
DTEND;VALUE=DATE:20280928
DTSTAMP:20260422T140832
CREATED:20240702T161054Z
LAST-MODIFIED:20240702T164405Z
UID:10000935-1853625600-1853711999@alehousegj.com
SUMMARY:WINE DOWN WEDNESDAY
DESCRIPTION:Enjoy half price bottles of select wines every Wednesday. \nTake out or dine in. Food purchase required. \nWINE LIST \n\nCK Mondavi Cabernet Sauvignon\nNatura Malbec\nOZV Red Zinfandel\nCK Mondavi Chardonnay\nAva Grace Pinot Grigio\nCupcake Moscato\nMatua Sauvignon Blanc\nGambino Sparkling Brut
URL:https://alehousegj.com/event/wine-down-wednesday/2028-09-27/
LOCATION:CO
ATTACH;FMTTYPE=image/jpeg:https://alehousegj.com/wp-content/uploads/2024/07/BW_GJ_2276_Wine_Down_Wednesday_Event_FA.jpg
END:VEVENT
BEGIN:VEVENT
DTSTART;VALUE=DATE:20281003
DTEND;VALUE=DATE:20281004
DTSTAMP:20260422T140832
CREATED:20241003T155817Z
LAST-MODIFIED:20241003T160110Z
UID:10001465-1854144000-1854230399@alehousegj.com
SUMMARY:KIDS EAT FREE EVERY TUESDAY
DESCRIPTION:Join us all day every Tuesday when kids 12 and under will receive a free kids meal with the purchase of an adult entree.
URL:https://alehousegj.com/event/kids-eat-free/2028-10-03/
LOCATION:Ale House Grand Junction\, 2531 N 12th St.\, Grand Junction\, CO\, 81501\, United States
ATTACH;FMTTYPE=image/jpeg:https://alehousegj.com/wp-content/uploads/2024/10/kids_eat_free_event.jpg
END:VEVENT
END:VCALENDAR