BEGIN:VCALENDAR
VERSION:2.0
PRODID:-//Ale House Grand Junction - ECPv6.15.20//NONSGML v1.0//EN
CALSCALE:GREGORIAN
METHOD:PUBLISH
X-WR-CALNAME:Ale House Grand Junction
X-ORIGINAL-URL:https://alehousegj.com
X-WR-CALDESC:Events for Ale House Grand Junction
REFRESH-INTERVAL;VALUE=DURATION:PT1H
X-Robots-Tag:noindex
X-PUBLISHED-TTL:PT1H
BEGIN:VTIMEZONE
TZID:America/Denver
BEGIN:DAYLIGHT
TZOFFSETFROM:-0700
TZOFFSETTO:-0600
TZNAME:MDT
DTSTART:20280312T090000
END:DAYLIGHT
BEGIN:STANDARD
TZOFFSETFROM:-0600
TZOFFSETTO:-0700
TZNAME:MST
DTSTART:20281105T080000
END:STANDARD
BEGIN:DAYLIGHT
TZOFFSETFROM:-0700
TZOFFSETTO:-0600
TZNAME:MDT
DTSTART:20290311T090000
END:DAYLIGHT
BEGIN:STANDARD
TZOFFSETFROM:-0600
TZOFFSETTO:-0700
TZNAME:MST
DTSTART:20291104T080000
END:STANDARD
BEGIN:DAYLIGHT
TZOFFSETFROM:-0700
TZOFFSETTO:-0600
TZNAME:MDT
DTSTART:20300310T090000
END:DAYLIGHT
BEGIN:STANDARD
TZOFFSETFROM:-0600
TZOFFSETTO:-0700
TZNAME:MST
DTSTART:20301103T080000
END:STANDARD
END:VTIMEZONE
BEGIN:VEVENT
DTSTART;VALUE=DATE:20290508
DTEND;VALUE=DATE:20290509
DTSTAMP:20260423T154539
CREATED:20241003T155817Z
LAST-MODIFIED:20241003T160110Z
UID:10001496-1872892800-1872979199@alehousegj.com
SUMMARY:KIDS EAT FREE EVERY TUESDAY
DESCRIPTION:Join us all day every Tuesday when kids 12 and under will receive a free kids meal with the purchase of an adult entree.
URL:https://alehousegj.com/event/kids-eat-free/2029-05-08/
LOCATION:Ale House Grand Junction\, 2531 N 12th St.\, Grand Junction\, CO\, 81501\, United States
ATTACH;FMTTYPE=image/jpeg:https://alehousegj.com/wp-content/uploads/2024/10/kids_eat_free_event.jpg
END:VEVENT
BEGIN:VEVENT
DTSTART;VALUE=DATE:20290509
DTEND;VALUE=DATE:20290510
DTSTAMP:20260423T154539
CREATED:20240702T161054Z
LAST-MODIFIED:20240702T164405Z
UID:10000967-1872979200-1873065599@alehousegj.com
SUMMARY:WINE DOWN WEDNESDAY
DESCRIPTION:Enjoy half price bottles of select wines every Wednesday. \nTake out or dine in. Food purchase required. \nWINE LIST \n\nCK Mondavi Cabernet Sauvignon\nNatura Malbec\nOZV Red Zinfandel\nCK Mondavi Chardonnay\nAva Grace Pinot Grigio\nCupcake Moscato\nMatua Sauvignon Blanc\nGambino Sparkling Brut
URL:https://alehousegj.com/event/wine-down-wednesday/2029-05-09/
ATTACH;FMTTYPE=image/jpeg:https://alehousegj.com/wp-content/uploads/2024/07/BW_GJ_2276_Wine_Down_Wednesday_Event_FA.jpg
END:VEVENT
BEGIN:VEVENT
DTSTART;VALUE=DATE:20290515
DTEND;VALUE=DATE:20290516
DTSTAMP:20260423T154539
CREATED:20241003T155817Z
LAST-MODIFIED:20241003T160110Z
UID:10001497-1873497600-1873583999@alehousegj.com
SUMMARY:KIDS EAT FREE EVERY TUESDAY
DESCRIPTION:Join us all day every Tuesday when kids 12 and under will receive a free kids meal with the purchase of an adult entree.
URL:https://alehousegj.com/event/kids-eat-free/2029-05-15/
LOCATION:Ale House Grand Junction\, 2531 N 12th St.\, Grand Junction\, CO\, 81501\, United States
ATTACH;FMTTYPE=image/jpeg:https://alehousegj.com/wp-content/uploads/2024/10/kids_eat_free_event.jpg
END:VEVENT
BEGIN:VEVENT
DTSTART;VALUE=DATE:20290516
DTEND;VALUE=DATE:20290517
DTSTAMP:20260423T154539
CREATED:20240702T161054Z
LAST-MODIFIED:20240702T164405Z
UID:10000968-1873584000-1873670399@alehousegj.com
SUMMARY:WINE DOWN WEDNESDAY
DESCRIPTION:Enjoy half price bottles of select wines every Wednesday. \nTake out or dine in. Food purchase required. \nWINE LIST \n\nCK Mondavi Cabernet Sauvignon\nNatura Malbec\nOZV Red Zinfandel\nCK Mondavi Chardonnay\nAva Grace Pinot Grigio\nCupcake Moscato\nMatua Sauvignon Blanc\nGambino Sparkling Brut
URL:https://alehousegj.com/event/wine-down-wednesday/2029-05-16/
ATTACH;FMTTYPE=image/jpeg:https://alehousegj.com/wp-content/uploads/2024/07/BW_GJ_2276_Wine_Down_Wednesday_Event_FA.jpg
END:VEVENT
BEGIN:VEVENT
DTSTART;VALUE=DATE:20290522
DTEND;VALUE=DATE:20290523
DTSTAMP:20260423T154539
CREATED:20241003T155817Z
LAST-MODIFIED:20241003T160110Z
UID:10001498-1874102400-1874188799@alehousegj.com
SUMMARY:KIDS EAT FREE EVERY TUESDAY
DESCRIPTION:Join us all day every Tuesday when kids 12 and under will receive a free kids meal with the purchase of an adult entree.
URL:https://alehousegj.com/event/kids-eat-free/2029-05-22/
LOCATION:Ale House Grand Junction\, 2531 N 12th St.\, Grand Junction\, CO\, 81501\, United States
ATTACH;FMTTYPE=image/jpeg:https://alehousegj.com/wp-content/uploads/2024/10/kids_eat_free_event.jpg
END:VEVENT
BEGIN:VEVENT
DTSTART;VALUE=DATE:20290523
DTEND;VALUE=DATE:20290524
DTSTAMP:20260423T154539
CREATED:20240702T161054Z
LAST-MODIFIED:20240702T164405Z
UID:10000969-1874188800-1874275199@alehousegj.com
SUMMARY:WINE DOWN WEDNESDAY
DESCRIPTION:Enjoy half price bottles of select wines every Wednesday. \nTake out or dine in. Food purchase required. \nWINE LIST \n\nCK Mondavi Cabernet Sauvignon\nNatura Malbec\nOZV Red Zinfandel\nCK Mondavi Chardonnay\nAva Grace Pinot Grigio\nCupcake Moscato\nMatua Sauvignon Blanc\nGambino Sparkling Brut
URL:https://alehousegj.com/event/wine-down-wednesday/2029-05-23/
ATTACH;FMTTYPE=image/jpeg:https://alehousegj.com/wp-content/uploads/2024/07/BW_GJ_2276_Wine_Down_Wednesday_Event_FA.jpg
END:VEVENT
BEGIN:VEVENT
DTSTART;VALUE=DATE:20290529
DTEND;VALUE=DATE:20290530
DTSTAMP:20260423T154539
CREATED:20241003T155817Z
LAST-MODIFIED:20241003T160110Z
UID:10001499-1874707200-1874793599@alehousegj.com
SUMMARY:KIDS EAT FREE EVERY TUESDAY
DESCRIPTION:Join us all day every Tuesday when kids 12 and under will receive a free kids meal with the purchase of an adult entree.
URL:https://alehousegj.com/event/kids-eat-free/2029-05-29/
LOCATION:Ale House Grand Junction\, 2531 N 12th St.\, Grand Junction\, CO\, 81501\, United States
ATTACH;FMTTYPE=image/jpeg:https://alehousegj.com/wp-content/uploads/2024/10/kids_eat_free_event.jpg
END:VEVENT
BEGIN:VEVENT
DTSTART;VALUE=DATE:20290530
DTEND;VALUE=DATE:20290531
DTSTAMP:20260423T154539
CREATED:20240702T161054Z
LAST-MODIFIED:20240702T164405Z
UID:10000970-1874793600-1874879999@alehousegj.com
SUMMARY:WINE DOWN WEDNESDAY
DESCRIPTION:Enjoy half price bottles of select wines every Wednesday. \nTake out or dine in. Food purchase required. \nWINE LIST \n\nCK Mondavi Cabernet Sauvignon\nNatura Malbec\nOZV Red Zinfandel\nCK Mondavi Chardonnay\nAva Grace Pinot Grigio\nCupcake Moscato\nMatua Sauvignon Blanc\nGambino Sparkling Brut
URL:https://alehousegj.com/event/wine-down-wednesday/2029-05-30/
ATTACH;FMTTYPE=image/jpeg:https://alehousegj.com/wp-content/uploads/2024/07/BW_GJ_2276_Wine_Down_Wednesday_Event_FA.jpg
END:VEVENT
BEGIN:VEVENT
DTSTART;VALUE=DATE:20290605
DTEND;VALUE=DATE:20290606
DTSTAMP:20260423T154539
CREATED:20241003T155817Z
LAST-MODIFIED:20241003T160110Z
UID:10001500-1875312000-1875398399@alehousegj.com
SUMMARY:KIDS EAT FREE EVERY TUESDAY
DESCRIPTION:Join us all day every Tuesday when kids 12 and under will receive a free kids meal with the purchase of an adult entree.
URL:https://alehousegj.com/event/kids-eat-free/2029-06-05/
LOCATION:Ale House Grand Junction\, 2531 N 12th St.\, Grand Junction\, CO\, 81501\, United States
ATTACH;FMTTYPE=image/jpeg:https://alehousegj.com/wp-content/uploads/2024/10/kids_eat_free_event.jpg
END:VEVENT
BEGIN:VEVENT
DTSTART;VALUE=DATE:20290606
DTEND;VALUE=DATE:20290607
DTSTAMP:20260423T154539
CREATED:20240702T161054Z
LAST-MODIFIED:20240702T164405Z
UID:10000971-1875398400-1875484799@alehousegj.com
SUMMARY:WINE DOWN WEDNESDAY
DESCRIPTION:Enjoy half price bottles of select wines every Wednesday. \nTake out or dine in. Food purchase required. \nWINE LIST \n\nCK Mondavi Cabernet Sauvignon\nNatura Malbec\nOZV Red Zinfandel\nCK Mondavi Chardonnay\nAva Grace Pinot Grigio\nCupcake Moscato\nMatua Sauvignon Blanc\nGambino Sparkling Brut
URL:https://alehousegj.com/event/wine-down-wednesday/2029-06-06/
ATTACH;FMTTYPE=image/jpeg:https://alehousegj.com/wp-content/uploads/2024/07/BW_GJ_2276_Wine_Down_Wednesday_Event_FA.jpg
END:VEVENT
BEGIN:VEVENT
DTSTART;VALUE=DATE:20290612
DTEND;VALUE=DATE:20290613
DTSTAMP:20260423T154539
CREATED:20241003T155817Z
LAST-MODIFIED:20241003T160110Z
UID:10001501-1875916800-1876003199@alehousegj.com
SUMMARY:KIDS EAT FREE EVERY TUESDAY
DESCRIPTION:Join us all day every Tuesday when kids 12 and under will receive a free kids meal with the purchase of an adult entree.
URL:https://alehousegj.com/event/kids-eat-free/2029-06-12/
LOCATION:Ale House Grand Junction\, 2531 N 12th St.\, Grand Junction\, CO\, 81501\, United States
ATTACH;FMTTYPE=image/jpeg:https://alehousegj.com/wp-content/uploads/2024/10/kids_eat_free_event.jpg
END:VEVENT
BEGIN:VEVENT
DTSTART;VALUE=DATE:20290613
DTEND;VALUE=DATE:20290614
DTSTAMP:20260423T154539
CREATED:20240702T161054Z
LAST-MODIFIED:20240702T164405Z
UID:10000972-1876003200-1876089599@alehousegj.com
SUMMARY:WINE DOWN WEDNESDAY
DESCRIPTION:Enjoy half price bottles of select wines every Wednesday. \nTake out or dine in. Food purchase required. \nWINE LIST \n\nCK Mondavi Cabernet Sauvignon\nNatura Malbec\nOZV Red Zinfandel\nCK Mondavi Chardonnay\nAva Grace Pinot Grigio\nCupcake Moscato\nMatua Sauvignon Blanc\nGambino Sparkling Brut
URL:https://alehousegj.com/event/wine-down-wednesday/2029-06-13/
ATTACH;FMTTYPE=image/jpeg:https://alehousegj.com/wp-content/uploads/2024/07/BW_GJ_2276_Wine_Down_Wednesday_Event_FA.jpg
END:VEVENT
BEGIN:VEVENT
DTSTART;VALUE=DATE:20290619
DTEND;VALUE=DATE:20290620
DTSTAMP:20260423T154539
CREATED:20241003T155817Z
LAST-MODIFIED:20241003T160110Z
UID:10001502-1876521600-1876607999@alehousegj.com
SUMMARY:KIDS EAT FREE EVERY TUESDAY
DESCRIPTION:Join us all day every Tuesday when kids 12 and under will receive a free kids meal with the purchase of an adult entree.
URL:https://alehousegj.com/event/kids-eat-free/2029-06-19/
LOCATION:Ale House Grand Junction\, 2531 N 12th St.\, Grand Junction\, CO\, 81501\, United States
ATTACH;FMTTYPE=image/jpeg:https://alehousegj.com/wp-content/uploads/2024/10/kids_eat_free_event.jpg
END:VEVENT
BEGIN:VEVENT
DTSTART;VALUE=DATE:20290620
DTEND;VALUE=DATE:20290621
DTSTAMP:20260423T154539
CREATED:20240702T161054Z
LAST-MODIFIED:20240702T164405Z
UID:10000973-1876608000-1876694399@alehousegj.com
SUMMARY:WINE DOWN WEDNESDAY
DESCRIPTION:Enjoy half price bottles of select wines every Wednesday. \nTake out or dine in. Food purchase required. \nWINE LIST \n\nCK Mondavi Cabernet Sauvignon\nNatura Malbec\nOZV Red Zinfandel\nCK Mondavi Chardonnay\nAva Grace Pinot Grigio\nCupcake Moscato\nMatua Sauvignon Blanc\nGambino Sparkling Brut
URL:https://alehousegj.com/event/wine-down-wednesday/2029-06-20/
ATTACH;FMTTYPE=image/jpeg:https://alehousegj.com/wp-content/uploads/2024/07/BW_GJ_2276_Wine_Down_Wednesday_Event_FA.jpg
END:VEVENT
BEGIN:VEVENT
DTSTART;VALUE=DATE:20290626
DTEND;VALUE=DATE:20290627
DTSTAMP:20260423T154539
CREATED:20241003T155817Z
LAST-MODIFIED:20241003T160110Z
UID:10001503-1877126400-1877212799@alehousegj.com
SUMMARY:KIDS EAT FREE EVERY TUESDAY
DESCRIPTION:Join us all day every Tuesday when kids 12 and under will receive a free kids meal with the purchase of an adult entree.
URL:https://alehousegj.com/event/kids-eat-free/2029-06-26/
LOCATION:Ale House Grand Junction\, 2531 N 12th St.\, Grand Junction\, CO\, 81501\, United States
ATTACH;FMTTYPE=image/jpeg:https://alehousegj.com/wp-content/uploads/2024/10/kids_eat_free_event.jpg
END:VEVENT
BEGIN:VEVENT
DTSTART;VALUE=DATE:20290627
DTEND;VALUE=DATE:20290628
DTSTAMP:20260423T154539
CREATED:20240702T161054Z
LAST-MODIFIED:20240702T164405Z
UID:10000974-1877212800-1877299199@alehousegj.com
SUMMARY:WINE DOWN WEDNESDAY
DESCRIPTION:Enjoy half price bottles of select wines every Wednesday. \nTake out or dine in. Food purchase required. \nWINE LIST \n\nCK Mondavi Cabernet Sauvignon\nNatura Malbec\nOZV Red Zinfandel\nCK Mondavi Chardonnay\nAva Grace Pinot Grigio\nCupcake Moscato\nMatua Sauvignon Blanc\nGambino Sparkling Brut
URL:https://alehousegj.com/event/wine-down-wednesday/2029-06-27/
ATTACH;FMTTYPE=image/jpeg:https://alehousegj.com/wp-content/uploads/2024/07/BW_GJ_2276_Wine_Down_Wednesday_Event_FA.jpg
END:VEVENT
BEGIN:VEVENT
DTSTART;VALUE=DATE:20290703
DTEND;VALUE=DATE:20290704
DTSTAMP:20260423T154539
CREATED:20241003T155817Z
LAST-MODIFIED:20241003T160110Z
UID:10001504-1877731200-1877817599@alehousegj.com
SUMMARY:KIDS EAT FREE EVERY TUESDAY
DESCRIPTION:Join us all day every Tuesday when kids 12 and under will receive a free kids meal with the purchase of an adult entree.
URL:https://alehousegj.com/event/kids-eat-free/2029-07-03/
LOCATION:Ale House Grand Junction\, 2531 N 12th St.\, Grand Junction\, CO\, 81501\, United States
ATTACH;FMTTYPE=image/jpeg:https://alehousegj.com/wp-content/uploads/2024/10/kids_eat_free_event.jpg
END:VEVENT
BEGIN:VEVENT
DTSTART;VALUE=DATE:20290710
DTEND;VALUE=DATE:20290711
DTSTAMP:20260423T154539
CREATED:20241003T155817Z
LAST-MODIFIED:20241003T160110Z
UID:10001505-1878336000-1878422399@alehousegj.com
SUMMARY:KIDS EAT FREE EVERY TUESDAY
DESCRIPTION:Join us all day every Tuesday when kids 12 and under will receive a free kids meal with the purchase of an adult entree.
URL:https://alehousegj.com/event/kids-eat-free/2029-07-10/
LOCATION:Ale House Grand Junction\, 2531 N 12th St.\, Grand Junction\, CO\, 81501\, United States
ATTACH;FMTTYPE=image/jpeg:https://alehousegj.com/wp-content/uploads/2024/10/kids_eat_free_event.jpg
END:VEVENT
BEGIN:VEVENT
DTSTART;VALUE=DATE:20290717
DTEND;VALUE=DATE:20290718
DTSTAMP:20260423T154539
CREATED:20241003T155817Z
LAST-MODIFIED:20241003T160110Z
UID:10001506-1878940800-1879027199@alehousegj.com
SUMMARY:KIDS EAT FREE EVERY TUESDAY
DESCRIPTION:Join us all day every Tuesday when kids 12 and under will receive a free kids meal with the purchase of an adult entree.
URL:https://alehousegj.com/event/kids-eat-free/2029-07-17/
LOCATION:Ale House Grand Junction\, 2531 N 12th St.\, Grand Junction\, CO\, 81501\, United States
ATTACH;FMTTYPE=image/jpeg:https://alehousegj.com/wp-content/uploads/2024/10/kids_eat_free_event.jpg
END:VEVENT
BEGIN:VEVENT
DTSTART;VALUE=DATE:20290724
DTEND;VALUE=DATE:20290725
DTSTAMP:20260423T154539
CREATED:20241003T155817Z
LAST-MODIFIED:20241003T160110Z
UID:10001507-1879545600-1879631999@alehousegj.com
SUMMARY:KIDS EAT FREE EVERY TUESDAY
DESCRIPTION:Join us all day every Tuesday when kids 12 and under will receive a free kids meal with the purchase of an adult entree.
URL:https://alehousegj.com/event/kids-eat-free/2029-07-24/
LOCATION:Ale House Grand Junction\, 2531 N 12th St.\, Grand Junction\, CO\, 81501\, United States
ATTACH;FMTTYPE=image/jpeg:https://alehousegj.com/wp-content/uploads/2024/10/kids_eat_free_event.jpg
END:VEVENT
BEGIN:VEVENT
DTSTART;VALUE=DATE:20290731
DTEND;VALUE=DATE:20290801
DTSTAMP:20260423T154539
CREATED:20241003T155817Z
LAST-MODIFIED:20241003T160110Z
UID:10001508-1880150400-1880236799@alehousegj.com
SUMMARY:KIDS EAT FREE EVERY TUESDAY
DESCRIPTION:Join us all day every Tuesday when kids 12 and under will receive a free kids meal with the purchase of an adult entree.
URL:https://alehousegj.com/event/kids-eat-free/2029-07-31/
LOCATION:Ale House Grand Junction\, 2531 N 12th St.\, Grand Junction\, CO\, 81501\, United States
ATTACH;FMTTYPE=image/jpeg:https://alehousegj.com/wp-content/uploads/2024/10/kids_eat_free_event.jpg
END:VEVENT
BEGIN:VEVENT
DTSTART;VALUE=DATE:20290807
DTEND;VALUE=DATE:20290808
DTSTAMP:20260423T154539
CREATED:20241003T155817Z
LAST-MODIFIED:20241003T160110Z
UID:10001509-1880755200-1880841599@alehousegj.com
SUMMARY:KIDS EAT FREE EVERY TUESDAY
DESCRIPTION:Join us all day every Tuesday when kids 12 and under will receive a free kids meal with the purchase of an adult entree.
URL:https://alehousegj.com/event/kids-eat-free/2029-08-07/
LOCATION:Ale House Grand Junction\, 2531 N 12th St.\, Grand Junction\, CO\, 81501\, United States
ATTACH;FMTTYPE=image/jpeg:https://alehousegj.com/wp-content/uploads/2024/10/kids_eat_free_event.jpg
END:VEVENT
BEGIN:VEVENT
DTSTART;VALUE=DATE:20290814
DTEND;VALUE=DATE:20290815
DTSTAMP:20260423T154539
CREATED:20241003T155817Z
LAST-MODIFIED:20241003T160110Z
UID:10001510-1881360000-1881446399@alehousegj.com
SUMMARY:KIDS EAT FREE EVERY TUESDAY
DESCRIPTION:Join us all day every Tuesday when kids 12 and under will receive a free kids meal with the purchase of an adult entree.
URL:https://alehousegj.com/event/kids-eat-free/2029-08-14/
LOCATION:Ale House Grand Junction\, 2531 N 12th St.\, Grand Junction\, CO\, 81501\, United States
ATTACH;FMTTYPE=image/jpeg:https://alehousegj.com/wp-content/uploads/2024/10/kids_eat_free_event.jpg
END:VEVENT
BEGIN:VEVENT
DTSTART;VALUE=DATE:20290821
DTEND;VALUE=DATE:20290822
DTSTAMP:20260423T154539
CREATED:20241003T155817Z
LAST-MODIFIED:20241003T160110Z
UID:10001511-1881964800-1882051199@alehousegj.com
SUMMARY:KIDS EAT FREE EVERY TUESDAY
DESCRIPTION:Join us all day every Tuesday when kids 12 and under will receive a free kids meal with the purchase of an adult entree.
URL:https://alehousegj.com/event/kids-eat-free/2029-08-21/
LOCATION:Ale House Grand Junction\, 2531 N 12th St.\, Grand Junction\, CO\, 81501\, United States
ATTACH;FMTTYPE=image/jpeg:https://alehousegj.com/wp-content/uploads/2024/10/kids_eat_free_event.jpg
END:VEVENT
BEGIN:VEVENT
DTSTART;VALUE=DATE:20290828
DTEND;VALUE=DATE:20290829
DTSTAMP:20260423T154539
CREATED:20241003T155817Z
LAST-MODIFIED:20241003T160110Z
UID:10001512-1882569600-1882655999@alehousegj.com
SUMMARY:KIDS EAT FREE EVERY TUESDAY
DESCRIPTION:Join us all day every Tuesday when kids 12 and under will receive a free kids meal with the purchase of an adult entree.
URL:https://alehousegj.com/event/kids-eat-free/2029-08-28/
LOCATION:Ale House Grand Junction\, 2531 N 12th St.\, Grand Junction\, CO\, 81501\, United States
ATTACH;FMTTYPE=image/jpeg:https://alehousegj.com/wp-content/uploads/2024/10/kids_eat_free_event.jpg
END:VEVENT
BEGIN:VEVENT
DTSTART;VALUE=DATE:20290904
DTEND;VALUE=DATE:20290905
DTSTAMP:20260423T154539
CREATED:20241003T155817Z
LAST-MODIFIED:20241003T160110Z
UID:10001513-1883174400-1883260799@alehousegj.com
SUMMARY:KIDS EAT FREE EVERY TUESDAY
DESCRIPTION:Join us all day every Tuesday when kids 12 and under will receive a free kids meal with the purchase of an adult entree.
URL:https://alehousegj.com/event/kids-eat-free/2029-09-04/
LOCATION:Ale House Grand Junction\, 2531 N 12th St.\, Grand Junction\, CO\, 81501\, United States
ATTACH;FMTTYPE=image/jpeg:https://alehousegj.com/wp-content/uploads/2024/10/kids_eat_free_event.jpg
END:VEVENT
BEGIN:VEVENT
DTSTART;VALUE=DATE:20290911
DTEND;VALUE=DATE:20290912
DTSTAMP:20260423T154539
CREATED:20241003T155817Z
LAST-MODIFIED:20241003T160110Z
UID:10001514-1883779200-1883865599@alehousegj.com
SUMMARY:KIDS EAT FREE EVERY TUESDAY
DESCRIPTION:Join us all day every Tuesday when kids 12 and under will receive a free kids meal with the purchase of an adult entree.
URL:https://alehousegj.com/event/kids-eat-free/2029-09-11/
LOCATION:Ale House Grand Junction\, 2531 N 12th St.\, Grand Junction\, CO\, 81501\, United States
ATTACH;FMTTYPE=image/jpeg:https://alehousegj.com/wp-content/uploads/2024/10/kids_eat_free_event.jpg
END:VEVENT
BEGIN:VEVENT
DTSTART;VALUE=DATE:20290918
DTEND;VALUE=DATE:20290919
DTSTAMP:20260423T154539
CREATED:20241003T155817Z
LAST-MODIFIED:20241003T160110Z
UID:10001515-1884384000-1884470399@alehousegj.com
SUMMARY:KIDS EAT FREE EVERY TUESDAY
DESCRIPTION:Join us all day every Tuesday when kids 12 and under will receive a free kids meal with the purchase of an adult entree.
URL:https://alehousegj.com/event/kids-eat-free/2029-09-18/
LOCATION:Ale House Grand Junction\, 2531 N 12th St.\, Grand Junction\, CO\, 81501\, United States
ATTACH;FMTTYPE=image/jpeg:https://alehousegj.com/wp-content/uploads/2024/10/kids_eat_free_event.jpg
END:VEVENT
BEGIN:VEVENT
DTSTART;VALUE=DATE:20290925
DTEND;VALUE=DATE:20290926
DTSTAMP:20260423T154539
CREATED:20241003T155817Z
LAST-MODIFIED:20241003T160110Z
UID:10001516-1884988800-1885075199@alehousegj.com
SUMMARY:KIDS EAT FREE EVERY TUESDAY
DESCRIPTION:Join us all day every Tuesday when kids 12 and under will receive a free kids meal with the purchase of an adult entree.
URL:https://alehousegj.com/event/kids-eat-free/2029-09-25/
LOCATION:Ale House Grand Junction\, 2531 N 12th St.\, Grand Junction\, CO\, 81501\, United States
ATTACH;FMTTYPE=image/jpeg:https://alehousegj.com/wp-content/uploads/2024/10/kids_eat_free_event.jpg
END:VEVENT
BEGIN:VEVENT
DTSTART;VALUE=DATE:20291002
DTEND;VALUE=DATE:20291003
DTSTAMP:20260423T154539
CREATED:20241003T155817Z
LAST-MODIFIED:20241003T160110Z
UID:10001517-1885593600-1885679999@alehousegj.com
SUMMARY:KIDS EAT FREE EVERY TUESDAY
DESCRIPTION:Join us all day every Tuesday when kids 12 and under will receive a free kids meal with the purchase of an adult entree.
URL:https://alehousegj.com/event/kids-eat-free/2029-10-02/
LOCATION:Ale House Grand Junction\, 2531 N 12th St.\, Grand Junction\, CO\, 81501\, United States
ATTACH;FMTTYPE=image/jpeg:https://alehousegj.com/wp-content/uploads/2024/10/kids_eat_free_event.jpg
END:VEVENT
END:VCALENDAR